BEGIN:VCALENDAR
VERSION:2.0
PRODID:ASME
BEGIN:VEVENT
SUMMARY:ASME Baltimore Section: An Evening of Orioles Baseball
DESCRIPTION:ASME Baltimore Section: An Evening of Orioles Baseball
LOCATION:Oriole Park 333 W Camden St. Baltimore Maryland USA
PRIORITY:3
DTSTART:20220923T190000
DTEND:20220923T220000
SEQUENCE: 0
END:VEVENT
END:VCALENDAR
